BEGIN:VCALENDAR
VERSION:2.0
PRODID:icalendar-ruby
CALSCALE:GREGORIAN
METHOD:PUBLISH
BEGIN:VEVENT
DTSTAMP:20260424T064330Z
UID:5e47028f-b938-4905-8076-48294c422f76
DTSTART;VALUE=DATE:20260418
DTEND;VALUE=DATE:20260418
DESCRIPTION:Desoto BMX
LOCATION:Grimes Park 500 E. Centre Park Blvd Desoto TX 75115 USA
SUMMARY:Local Race Single
URL:/site/bmx_races/595857
END:VEVENT
END:VCALENDAR
