BEGIN:VCALENDAR
VERSION:2.0
PRODID:icalendar-ruby
CALSCALE:GREGORIAN
METHOD:PUBLISH
BEGIN:VEVENT
DTSTAMP:20260424T085349Z
UID:e7eefe3a-2c83-4273-9e91-62012fe1b4e3
DTSTART;VALUE=DATE:20260409
DTEND;VALUE=DATE:20260409
DESCRIPTION:RockStar Energy Bike Park
LOCATION:12257 Kukendahl Rd  Houston TX 77067 USA
SUMMARY:Local Race Single
URL:/site/bmx_races/595840
END:VEVENT
END:VCALENDAR
