BEGIN:VCALENDAR
VERSION:2.0
PRODID:icalendar-ruby
CALSCALE:GREGORIAN
METHOD:PUBLISH
BEGIN:VEVENT
DTSTAMP:20260424T073917Z
UID:6da8df9b-22f9-4928-a3e7-77d30be83833
DTSTART;VALUE=DATE:20260414
DTEND;VALUE=DATE:20260414
DESCRIPTION:Elkhorn BMX
LOCATION:848 Elkhorn Blvd  Rio Linda CA 95673 USA
SUMMARY:Local Race Single
URL:/site/bmx_races/595785
END:VEVENT
END:VCALENDAR
