BEGIN:VCALENDAR
VERSION:2.0
PRODID:icalendar-ruby
CALSCALE:GREGORIAN
METHOD:PUBLISH
BEGIN:VEVENT
DTSTAMP:20260424T081041Z
UID:32335ec4-0b05-4cb2-aed3-25a82c41b327
DTSTART;VALUE=DATE:20260412
DTEND;VALUE=DATE:20260412
DESCRIPTION:Rum River BMX
LOCATION:Isanti Parkway Northwest  Isanti MN 55040 USA
SUMMARY:Local Race Single
URL:/site/bmx_races/595664
END:VEVENT
END:VCALENDAR
