BEGIN:VCALENDAR
VERSION:2.0
PRODID:icalendar-ruby
CALSCALE:GREGORIAN
METHOD:PUBLISH
BEGIN:VEVENT
DTSTAMP:20260424T081040Z
UID:3ac7a0a7-f7a5-445c-ac64-eeffad7c008d
DTSTART;VALUE=DATE:20260408
DTEND;VALUE=DATE:20260408
DESCRIPTION:Capitol City BMX
LOCATION:5001 Killingsworth Lane  Pflugerville TX 78660 USA
SUMMARY:Local Race Single
URL:/site/bmx_races/595635
END:VEVENT
END:VCALENDAR
