BEGIN:VCALENDAR
VERSION:2.0
PRODID:icalendar-ruby
CALSCALE:GREGORIAN
METHOD:PUBLISH
BEGIN:VEVENT
DTSTAMP:20260424T045236Z
UID:febd0c28-7de6-482d-a16c-c40f64d2c048
DTSTART;VALUE=DATE:20260407
DTEND;VALUE=DATE:20260407
DESCRIPTION:Gretna BMX Raceway
LOCATION:800 Gretna Blvd  Gretna LA 70053 USA
SUMMARY:Local Race Single
URL:/site/bmx_races/595604
END:VEVENT
END:VCALENDAR
