BEGIN:VCALENDAR
VERSION:2.0
PRODID:icalendar-ruby
CALSCALE:GREGORIAN
METHOD:PUBLISH
BEGIN:VEVENT
DTSTAMP:20260424T020514Z
UID:1060cd57-523d-4f5a-8ba1-9bbe050ebed7
DTSTART;VALUE=DATE:20260402
DTEND;VALUE=DATE:20260402
DESCRIPTION:Ed Fountain Park BMX Raceway
LOCATION:1400 N Decatur Blvd  Las Vegas NV 89108 USA
SUMMARY:Local Race Single
URL:/site/bmx_races/595532
END:VEVENT
END:VCALENDAR
