BEGIN:VCALENDAR
VERSION:2.0
PRODID:icalendar-ruby
CALSCALE:GREGORIAN
METHOD:PUBLISH
BEGIN:VEVENT
DTSTAMP:20260424T034206Z
UID:abb8a5f9-3872-4d5d-aded-2ecab9e80a8e
DTSTART;VALUE=DATE:20260404
DTEND;VALUE=DATE:20260404
DESCRIPTION:Oldsmar BMX Supercross
LOCATION:Oldsmar Sports Complex 3120 Tampa Road Oldsmar FL 34677 USA
SUMMARY:Gold Cup Qualifier Triple
URL:/site/bmx_races/595529
END:VEVENT
END:VCALENDAR
