BEGIN:VCALENDAR
VERSION:2.0
PRODID:icalendar-ruby
CALSCALE:GREGORIAN
METHOD:PUBLISH
BEGIN:VEVENT
DTSTAMP:20260424T064336Z
UID:be57d9a8-9e1b-4ac6-b597-29d6dedba133
DTSTART;VALUE=DATE:20260405
DTEND;VALUE=DATE:20260405
DESCRIPTION:Cowtown BMX
LOCATION:447 Haltom Rd  Ft. Worth TX 76117 USA
SUMMARY:Local Race Single
URL:/site/bmx_races/595501
END:VEVENT
END:VCALENDAR
