BEGIN:VCALENDAR
VERSION:2.0
PRODID:icalendar-ruby
CALSCALE:GREGORIAN
METHOD:PUBLISH
BEGIN:VEVENT
DTSTAMP:20260424T112845Z
UID:d29654ad-15ff-45a5-8be0-5b7da348057e
DTSTART;VALUE=DATE:20260401
DTEND;VALUE=DATE:20260401
DESCRIPTION:Grand Prix BMX at SoCal Fair
LOCATION:18700 Lake Perris Dr  Perris CA 92571 USA
SUMMARY:Local Race Single
URL:/site/bmx_races/595479
END:VEVENT
END:VCALENDAR
