BEGIN:VCALENDAR
VERSION:2.0
PRODID:icalendar-ruby
CALSCALE:GREGORIAN
METHOD:PUBLISH
BEGIN:VEVENT
DTSTAMP:20260424T081042Z
UID:326d76d7-ed1f-4c5c-a2fd-6c6d06057a5b
DTSTART;VALUE=DATE:20260329
DTEND;VALUE=DATE:20260329
DESCRIPTION:Rum River BMX
LOCATION:Isanti Parkway Northwest  Isanti MN 55040 USA
SUMMARY:Local Race Single
URL:/site/bmx_races/595462
END:VEVENT
END:VCALENDAR
