BEGIN:VCALENDAR
VERSION:2.0
PRODID:icalendar-ruby
CALSCALE:GREGORIAN
METHOD:PUBLISH
BEGIN:VEVENT
DTSTAMP:20260424T112849Z
UID:0fe25357-efaf-42ec-ad79-00cfda1526f3
DTSTART;VALUE=DATE:20260328
DTEND;VALUE=DATE:20260328
DESCRIPTION:Rum River BMX
LOCATION:Isanti Parkway Northwest  Isanti MN 55040 USA
SUMMARY:Local Race Single
URL:/site/bmx_races/595460
END:VEVENT
END:VCALENDAR
