BEGIN:VCALENDAR
VERSION:2.0
PRODID:icalendar-ruby
CALSCALE:GREGORIAN
METHOD:PUBLISH
BEGIN:VEVENT
DTSTAMP:20260424T073921Z
UID:18adeb4e-d8f3-4378-95eb-3efd2f13f2f7
DTSTART;VALUE=DATE:20260329
DTEND;VALUE=DATE:20260329
DESCRIPTION:Hardesty National BMX Stadium
LOCATION:490 N Lansing Ave  Tulsa OK 74120 USA
SUMMARY:State Race Double
URL:/site/bmx_races/595456
END:VEVENT
END:VCALENDAR
