BEGIN:VCALENDAR
VERSION:2.0
PRODID:icalendar-ruby
CALSCALE:GREGORIAN
METHOD:PUBLISH
BEGIN:VEVENT
DTSTAMP:20260424T112848Z
UID:8cdc549b-25d0-44e0-a8b5-d3f88c27e943
DTSTART;VALUE=DATE:20260322
DTEND;VALUE=DATE:20260322
DESCRIPTION:Idaho Indoor BMX
LOCATION:111 S 22nd St  Caldwell ID 83605 USA
SUMMARY:Local Race Single
URL:/site/bmx_races/595360
END:VEVENT
END:VCALENDAR
