BEGIN:VCALENDAR
VERSION:2.0
PRODID:icalendar-ruby
CALSCALE:GREGORIAN
METHOD:PUBLISH
BEGIN:VEVENT
DTSTAMP:20260424T082121Z
UID:dd7abf9c-ddf0-48c3-a617-9edc551fb547
DTSTART;VALUE=DATE:20260326
DTEND;VALUE=DATE:20260326
DESCRIPTION:Seatac BMX
LOCATION:1855 S 136th St  Sea Tac WA 98168 USA
SUMMARY:Local Race Single
URL:/site/bmx_races/595343
END:VEVENT
END:VCALENDAR
