BEGIN:VCALENDAR
VERSION:2.0
PRODID:icalendar-ruby
CALSCALE:GREGORIAN
METHOD:PUBLISH
BEGIN:VEVENT
DTSTAMP:20260424T100414Z
UID:6c00a903-28b6-4aae-8f2f-77fa9a60b2a6
DTSTART;VALUE=DATE:20260325
DTEND;VALUE=DATE:20260325
DESCRIPTION:HD BMX
LOCATION:17427 Live Oak St  Hesperia CA 92345 USA
SUMMARY:Local Race Single
URL:/site/bmx_races/595340
END:VEVENT
END:VCALENDAR
