BEGIN:VCALENDAR
VERSION:2.0
PRODID:icalendar-ruby
CALSCALE:GREGORIAN
METHOD:PUBLISH
BEGIN:VEVENT
DTSTAMP:20260424T073921Z
UID:399da44b-95e7-485b-a989-c56489ac3f5f
DTSTART;VALUE=DATE:20260324
DTEND;VALUE=DATE:20260324
DESCRIPTION:Gretna BMX Raceway
LOCATION:800 Gretna Blvd  Gretna LA 70053 USA
SUMMARY:Local Race Single
URL:/site/bmx_races/595304
END:VEVENT
END:VCALENDAR
