BEGIN:VCALENDAR
VERSION:2.0
PRODID:icalendar-ruby
CALSCALE:GREGORIAN
METHOD:PUBLISH
BEGIN:VEVENT
DTSTAMP:20260424T064336Z
UID:5c105b78-aa6e-453a-a17b-732ef4740a44
DTSTART;VALUE=DATE:20260321
DTEND;VALUE=DATE:20260321
DESCRIPTION:Air Time BMX
LOCATION:5051 S Frankwood Ave  Reedley CA 93654 USA
SUMMARY:Gold Cup Qualifier / State Race Triple
URL:/site/bmx_races/595287
END:VEVENT
END:VCALENDAR
