BEGIN:VCALENDAR
VERSION:2.0
PRODID:icalendar-ruby
CALSCALE:GREGORIAN
METHOD:PUBLISH
BEGIN:VEVENT
DTSTAMP:20260425T034532Z
UID:7a6b8bab-2560-4d9f-97af-0beac8b92db9
DTSTART;VALUE=DATE:20260323
DTEND;VALUE=DATE:20260323
DESCRIPTION:Imperial Valley BMX
LOCATION:1750 Drew Rd  El Centro CA 92243 USA
SUMMARY:Local Race Single
URL:/site/bmx_races/595278
END:VEVENT
END:VCALENDAR
