BEGIN:VCALENDAR
VERSION:2.0
PRODID:icalendar-ruby
CALSCALE:GREGORIAN
METHOD:PUBLISH
BEGIN:VEVENT
DTSTAMP:20260424T100413Z
UID:8b1ad593-007b-46c1-9474-de52b51a1d05
DTSTART;VALUE=DATE:20260321
DTEND;VALUE=DATE:20260321
DESCRIPTION:Hardesty National BMX Stadium
LOCATION:490 N Lansing Ave  Tulsa OK 74120 USA
SUMMARY:Local Race Single
URL:/site/bmx_races/595274
END:VEVENT
END:VCALENDAR
