BEGIN:VCALENDAR
VERSION:2.0
PRODID:icalendar-ruby
CALSCALE:GREGORIAN
METHOD:PUBLISH
BEGIN:VEVENT
DTSTAMP:20260425T231055Z
UID:f994f298-ef50-4d4a-ac7f-11271f463c2f
DTSTART;VALUE=DATE:20260213
DTEND;VALUE=DATE:20260213
DESCRIPTION:Wild Chile BMX
LOCATION:1600 East Hadley Ave  Las Cruces NM 88001 USA
SUMMARY:Local Race Single
URL:/site/bmx_races/595264
END:VEVENT
END:VCALENDAR
