BEGIN:VCALENDAR
VERSION:2.0
PRODID:icalendar-ruby
CALSCALE:GREGORIAN
METHOD:PUBLISH
BEGIN:VEVENT
DTSTAMP:20260424T064333Z
UID:52ee9c76-eda6-44ef-866d-7193357d7398
DTSTART;VALUE=DATE:20260315
DTEND;VALUE=DATE:20260315
DESCRIPTION:Yucaipa BMX
LOCATION:32750 Thunderbird Way  Yucaipa CA 92399 USA
SUMMARY:Local Race Single
URL:/site/bmx_races/595134
END:VEVENT
END:VCALENDAR
