BEGIN:VCALENDAR
VERSION:2.0
PRODID:icalendar-ruby
CALSCALE:GREGORIAN
METHOD:PUBLISH
BEGIN:VEVENT
DTSTAMP:20260424T140413Z
UID:db69eafc-1743-484c-a653-c6d9685932ab
DTSTART;VALUE=DATE:20260314
DTEND;VALUE=DATE:20260314
DESCRIPTION:Rum River BMX
LOCATION:Isanti Parkway Northwest  Isanti MN 55040 USA
SUMMARY:State Race Double
URL:/site/bmx_races/595095
END:VEVENT
END:VCALENDAR
