BEGIN:VCALENDAR
VERSION:2.0
PRODID:icalendar-ruby
CALSCALE:GREGORIAN
METHOD:PUBLISH
BEGIN:VEVENT
DTSTAMP:20260424T172230Z
UID:7e04d279-ca4a-4e69-a128-6a206ed0f540
DTSTART;VALUE=DATE:20260308
DTEND;VALUE=DATE:20260308
DESCRIPTION:Manzanita Park BMX
LOCATION: 17100 Castroville Blvd  Prunedale CA 93907 USA
SUMMARY:Local Race Single
URL:/site/bmx_races/594978
END:VEVENT
END:VCALENDAR
