BEGIN:VCALENDAR
VERSION:2.0
PRODID:icalendar-ruby
CALSCALE:GREGORIAN
METHOD:PUBLISH
BEGIN:VEVENT
DTSTAMP:20260424T125335Z
UID:45913404-33fa-4d49-ad97-c736439cbf49
DTSTART;VALUE=DATE:20260305
DTEND;VALUE=DATE:20260305
DESCRIPTION:North Bay BMX
LOCATION:3291 Streblow Dr  Napa CA 94558 USA
SUMMARY:Local Race Single
URL:/site/bmx_races/594939
END:VEVENT
END:VCALENDAR
