BEGIN:VCALENDAR
VERSION:2.0
PRODID:icalendar-ruby
CALSCALE:GREGORIAN
METHOD:PUBLISH
BEGIN:VEVENT
DTSTAMP:20260424T063227Z
UID:5d99753a-f6fe-4bad-b255-d091982aab9b
DTSTART;VALUE=DATE:20260303
DTEND;VALUE=DATE:20260303
DESCRIPTION:Okeeheelee BMX
LOCATION:8145 Forest Hill Blvd  West Palm Beach FL 33413 USA
SUMMARY:Local Race Single
URL:/site/bmx_races/594909
END:VEVENT
END:VCALENDAR
