BEGIN:VCALENDAR
VERSION:2.0
PRODID:icalendar-ruby
CALSCALE:GREGORIAN
METHOD:PUBLISH
BEGIN:VEVENT
DTSTAMP:20260424T143743Z
UID:b453dcff-21b7-4108-81b6-499baefa6a6f
DTSTART;VALUE=DATE:20260301
DTEND;VALUE=DATE:20260301
DESCRIPTION:Red Hills Indoor BMX
LOCATION:Blackhawk Arena Grounds  Salina UT 84654 USA
SUMMARY:Local Race Single
URL:/site/bmx_races/594855
END:VEVENT
END:VCALENDAR
