BEGIN:VCALENDAR
VERSION:2.0
PRODID:icalendar-ruby
CALSCALE:GREGORIAN
METHOD:PUBLISH
BEGIN:VEVENT
DTSTAMP:20260424T084344Z
UID:e46c99af-4afa-4d20-855c-aab988b62269
DTSTART;VALUE=DATE:20260227
DTEND;VALUE=DATE:20260227
DESCRIPTION:Cowtown BMX
LOCATION:447 Haltom Rd  Ft. Worth TX 76117 USA
SUMMARY:Local Race Single
URL:/site/bmx_races/594836
END:VEVENT
END:VCALENDAR
