BEGIN:VCALENDAR
VERSION:2.0
PRODID:icalendar-ruby
CALSCALE:GREGORIAN
METHOD:PUBLISH
BEGIN:VEVENT
DTSTAMP:20260424T094142Z
UID:1fd4a446-88e5-40f9-a9ed-c0106c9905fb
DTSTART;VALUE=DATE:20260218
DTEND;VALUE=DATE:20260218
DESCRIPTION:Yuma BMX
LOCATION:3067 S Pacific Ave  Yuma AZ 85364 USA
SUMMARY:Local Race Single
URL:/site/bmx_races/594734
END:VEVENT
END:VCALENDAR
