BEGIN:VCALENDAR
VERSION:2.0
PRODID:icalendar-ruby
CALSCALE:GREGORIAN
METHOD:PUBLISH
BEGIN:VEVENT
DTSTAMP:20260424T092748Z
UID:0b1cc201-8202-4f9d-a616-2309ccb3f732
DTSTART;VALUE=DATE:20260214
DTEND;VALUE=DATE:20260214
DESCRIPTION:Air Time BMX
LOCATION:5051 S Frankwood Ave  Reedley CA 93654 USA
SUMMARY:Local Race Single
URL:/site/bmx_races/594719
END:VEVENT
END:VCALENDAR
