BEGIN:VCALENDAR
VERSION:2.0
PRODID:icalendar-ruby
CALSCALE:GREGORIAN
METHOD:PUBLISH
BEGIN:VEVENT
DTSTAMP:20260424T063213Z
UID:aeb0b7a9-f781-4807-8aac-95c8b863734d
DTSTART;VALUE=DATE:20260206
DTEND;VALUE=DATE:20260206
DESCRIPTION:Jacksonville BMX
LOCATION:1946 Ray Greene Drive  Jacksonville FL 32218 USA
SUMMARY:Local Race Single
URL:/site/bmx_races/594717
END:VEVENT
END:VCALENDAR
