BEGIN:VCALENDAR
VERSION:2.0
PRODID:icalendar-ruby
CALSCALE:GREGORIAN
METHOD:PUBLISH
BEGIN:VEVENT
DTSTAMP:20260424T080030Z
UID:9ce47855-4e1e-451e-8943-f0a5712cd1ce
DTSTART;VALUE=DATE:20260217
DTEND;VALUE=DATE:20260217
DESCRIPTION:Sarasota BMX
LOCATION:1590 North Tuttle Avenue  Sarasota FL 34237 USA
SUMMARY:Local Race Single
URL:/site/bmx_races/594708
END:VEVENT
END:VCALENDAR
