BEGIN:VCALENDAR
VERSION:2.0
PRODID:icalendar-ruby
CALSCALE:GREGORIAN
METHOD:PUBLISH
BEGIN:VEVENT
DTSTAMP:20260424T121221Z
UID:33d453fd-1190-47da-a248-3ab2192bba97
DTSTART;VALUE=DATE:20260209
DTEND;VALUE=DATE:20260209
DESCRIPTION:Sports Park BMX
LOCATION:6901 N Casa Grande Highway  Tucson AZ 85743 USA
SUMMARY:Local Race Single
URL:/site/bmx_races/594680
END:VEVENT
END:VCALENDAR
