BEGIN:VCALENDAR
VERSION:2.0
PRODID:icalendar-ruby
CALSCALE:GREGORIAN
METHOD:PUBLISH
BEGIN:VEVENT
DTSTAMP:20260425T021613Z
UID:89ac7adb-ee9b-4983-a60a-da698bd55b58
DTSTART;VALUE=DATE:20260212
DTEND;VALUE=DATE:20260212
DESCRIPTION:Sun City BMX
LOCATION:650 Wallenburg  El Paso TX 79912 USA
SUMMARY:Local Race Single
URL:/site/bmx_races/594613
END:VEVENT
END:VCALENDAR
