BEGIN:VCALENDAR
VERSION:2.0
PRODID:icalendar-ruby
CALSCALE:GREGORIAN
METHOD:PUBLISH
BEGIN:VEVENT
DTSTAMP:20260424T084432Z
UID:f67c78d7-a6fd-4ea6-bc1b-4e89000aa15d
DTSTART;VALUE=DATE:20260204
DTEND;VALUE=DATE:20260204
DESCRIPTION:Yuma BMX
LOCATION:3067 S Pacific Ave  Yuma AZ 85364 USA
SUMMARY:Local Race Single
URL:/site/bmx_races/594557
END:VEVENT
END:VCALENDAR
