BEGIN:VCALENDAR
VERSION:2.0
PRODID:icalendar-ruby
CALSCALE:GREGORIAN
METHOD:PUBLISH
BEGIN:VEVENT
DTSTAMP:20260424T084429Z
UID:09836b53-8f46-4a77-85d0-9308d783f333
DTSTART;VALUE=DATE:20260206
DTEND;VALUE=DATE:20260206
DESCRIPTION:Mississippi Valley BMX Raceway
LOCATION:2815 West Locust Street  Davenport IA 52804 USA
SUMMARY:Warnicke Double
URL:/site/bmx_races/594550
END:VEVENT
END:VCALENDAR
