BEGIN:VCALENDAR
VERSION:2.0
PRODID:icalendar-ruby
CALSCALE:GREGORIAN
METHOD:PUBLISH
BEGIN:VEVENT
DTSTAMP:20260424T091856Z
UID:f36ebb95-a044-4335-9155-d338f2b0b11f
DTSTART;VALUE=DATE:20260207
DTEND;VALUE=DATE:20260207
DESCRIPTION:Hardesty National BMX Stadium
LOCATION:490 N Lansing Ave  Tulsa OK 74120 USA
SUMMARY:Local Race Single
URL:/site/bmx_races/594549
END:VEVENT
END:VCALENDAR
