BEGIN:VCALENDAR
VERSION:2.0
PRODID:icalendar-ruby
CALSCALE:GREGORIAN
METHOD:PUBLISH
BEGIN:VEVENT
DTSTAMP:20260424T080021Z
UID:94825ce7-2766-4e32-964c-e0bd31a3d248
DTSTART;VALUE=DATE:20260208
DTEND;VALUE=DATE:20260208
DESCRIPTION:Gretna BMX Raceway
LOCATION:800 Gretna Blvd  Gretna LA 70053 USA
SUMMARY:Local Race Single
URL:/site/bmx_races/594527
END:VEVENT
END:VCALENDAR
