BEGIN:VCALENDAR
VERSION:2.0
PRODID:icalendar-ruby
CALSCALE:GREGORIAN
METHOD:PUBLISH
BEGIN:VEVENT
DTSTAMP:20260424T144005Z
UID:f7d1153f-f484-41bb-939d-db5a3bc409b3
DTSTART;VALUE=DATE:20260130
DTEND;VALUE=DATE:20260130
DESCRIPTION:Bellflower BMX
LOCATION:9030 Somerset Blvd  Bellflower CA 90706 USA
SUMMARY:Local Race Single
URL:/site/bmx_races/594407
END:VEVENT
END:VCALENDAR
