BEGIN:VCALENDAR
VERSION:2.0
PRODID:icalendar-ruby
CALSCALE:GREGORIAN
METHOD:PUBLISH
BEGIN:VEVENT
DTSTAMP:20260426T003229Z
UID:8ece4545-68aa-4299-b0e0-2dbeea2ccf32
DTSTART;VALUE=DATE:20260117
DTEND;VALUE=DATE:20260117
DESCRIPTION:Lone Star BMX
LOCATION:3950 Eisenhauer Rd  San Antonio TX 78218 USA
SUMMARY:Local Race Single
URL:/site/bmx_races/594350
END:VEVENT
END:VCALENDAR
