BEGIN:VCALENDAR
VERSION:2.0
PRODID:icalendar-ruby
CALSCALE:GREGORIAN
METHOD:PUBLISH
BEGIN:VEVENT
DTSTAMP:20260424T084515Z
UID:f5ea4b67-5c9e-4386-b8c6-bd2b602ac430
DTSTART;VALUE=DATE:20260128
DTEND;VALUE=DATE:20260128
DESCRIPTION:Oak Creek BMX
LOCATION:648 Riverside Ave  Roseville CA 95678 USA
SUMMARY:Local Race Single
URL:/site/bmx_races/594346
END:VEVENT
END:VCALENDAR
