BEGIN:VCALENDAR
VERSION:2.0
PRODID:icalendar-ruby
CALSCALE:GREGORIAN
METHOD:PUBLISH
BEGIN:VEVENT
DTSTAMP:20260424T074625Z
UID:b2cd93ac-c843-4e8c-8bea-c00e3f6173e6
DTSTART;VALUE=DATE:20260110
DTEND;VALUE=DATE:20260110
DESCRIPTION:RockStar Energy Bike Park
LOCATION:12257 Kukendahl Rd  Houston TX 77067 USA
SUMMARY:Local Race Single
URL:/site/bmx_races/594306
END:VEVENT
END:VCALENDAR
