BEGIN:VCALENDAR
VERSION:2.0
PRODID:icalendar-ruby
CALSCALE:GREGORIAN
METHOD:PUBLISH
BEGIN:VEVENT
DTSTAMP:20260424T101330Z
UID:a7df1570-7197-4166-8d53-a57c2a7eadf9
DTSTART;VALUE=DATE:20260126
DTEND;VALUE=DATE:20260126
DESCRIPTION:HD BMX
LOCATION:17427 Live Oak St  Hesperia CA 92345 USA
SUMMARY:Local Race Single
URL:/site/bmx_races/594271
END:VEVENT
END:VCALENDAR
