BEGIN:VCALENDAR
VERSION:2.0
PRODID:icalendar-ruby
CALSCALE:GREGORIAN
METHOD:PUBLISH
BEGIN:VEVENT
DTSTAMP:20260424T121226Z
UID:89e53a7a-a6ea-4a48-a6bb-5f2d7c86e2a3
DTSTART;VALUE=DATE:20260116
DTEND;VALUE=DATE:20260116
DESCRIPTION:Red Hills Indoor BMX
LOCATION:Blackhawk Arena Grounds  Salina UT 84654 USA
SUMMARY:Local Race Single
URL:/site/bmx_races/594191
END:VEVENT
END:VCALENDAR
