BEGIN:VCALENDAR
VERSION:2.0
PRODID:icalendar-ruby
CALSCALE:GREGORIAN
METHOD:PUBLISH
BEGIN:VEVENT
DTSTAMP:20260424T065547Z
UID:3e736d0b-735c-44a7-bbdf-9d982cd7cddd
DTSTART;VALUE=DATE:20260122
DTEND;VALUE=DATE:20260122
DESCRIPTION:Oldsmar BMX Supercross
LOCATION:Oldsmar Sports Complex 3120 Tampa Road Oldsmar FL 34677 USA
SUMMARY:Local Race Single
URL:/site/bmx_races/594136
END:VEVENT
END:VCALENDAR
