BEGIN:VCALENDAR
VERSION:2.0
PRODID:icalendar-ruby
CALSCALE:GREGORIAN
METHOD:PUBLISH
BEGIN:VEVENT
DTSTAMP:20260424T101309Z
UID:0107d401-78c9-48e7-b143-23dd8e2901ee
DTSTART;VALUE=DATE:20260112
DTEND;VALUE=DATE:20260112
DESCRIPTION:Hanford BMX
LOCATION:501 S Brown St  Hanford CA 93230 USA
SUMMARY:Local Race Single
URL:/site/bmx_races/594120
END:VEVENT
END:VCALENDAR
