BEGIN:VCALENDAR
VERSION:2.0
PRODID:icalendar-ruby
CALSCALE:GREGORIAN
METHOD:PUBLISH
BEGIN:VEVENT
DTSTAMP:20260424T233953Z
UID:47313a20-c1a7-4bbc-8655-ca66a5fa0f10
DTSTART;VALUE=DATE:20251211
DTEND;VALUE=DATE:20251211
DESCRIPTION:Santa Clara BMX
LOCATION:1371 N Canyon View Dr  Santa Clara UT 84765 USA
SUMMARY:Warnicke Double
URL:/site/bmx_races/593900
END:VEVENT
END:VCALENDAR
