BEGIN:VCALENDAR
VERSION:2.0
PRODID:icalendar-ruby
CALSCALE:GREGORIAN
METHOD:PUBLISH
BEGIN:VEVENT
DTSTAMP:20260425T141956Z
UID:967459b0-d70f-4d4a-9625-2aef96f826b1
DTSTART;VALUE=DATE:20251205
DTEND;VALUE=DATE:20251205
DESCRIPTION:Sarasota BMX
LOCATION:1590 North Tuttle Avenue  Sarasota FL 34237 USA
SUMMARY:Earned Double
URL:/site/bmx_races/593857
END:VEVENT
END:VCALENDAR
