BEGIN:VCALENDAR
VERSION:2.0
PRODID:icalendar-ruby
CALSCALE:GREGORIAN
METHOD:PUBLISH
BEGIN:VEVENT
DTSTAMP:20260424T121242Z
UID:703a8004-3be9-4e62-9c9d-db44ba54be3e
DTSTART;VALUE=DATE:20251207
DTEND;VALUE=DATE:20251207
DESCRIPTION:Desert Downs BMX
LOCATION:8801 Railroad  El Paso TX 79924 USA
SUMMARY:Local Race Single
URL:/site/bmx_races/593846
END:VEVENT
END:VCALENDAR
