BEGIN:VCALENDAR
VERSION:2.0
PRODID:icalendar-ruby
CALSCALE:GREGORIAN
METHOD:PUBLISH
BEGIN:VEVENT
DTSTAMP:20260424T082715Z
UID:8b3381cc-1246-4f11-9ac3-4e30a1eae085
DTSTART;VALUE=DATE:20251121
DTEND;VALUE=DATE:20251121
DESCRIPTION:Okeeheelee BMX
LOCATION:8145 Forest Hill Blvd  West Palm Beach FL 33413 USA
SUMMARY:Local Race Single
URL:/site/bmx_races/593796
END:VEVENT
END:VCALENDAR
